BEGIN:VCALENDAR
VERSION:2.0
PRODID:-//Be One Ministries - ECPv6.15.20//NONSGML v1.0//EN
CALSCALE:GREGORIAN
METHOD:PUBLISH
X-WR-CALNAME:Be One Ministries
X-ORIGINAL-URL:https://beonetoday.com
X-WR-CALDESC:Events for Be One Ministries
REFRESH-INTERVAL;VALUE=DURATION:PT1H
X-Robots-Tag:noindex
X-PUBLISHED-TTL:PT1H
BEGIN:VTIMEZONE
TZID:America/Chicago
BEGIN:DAYLIGHT
TZOFFSETFROM:-0600
TZOFFSETTO:-0500
TZNAME:CDT
DTSTART:20290311T080000
END:DAYLIGHT
BEGIN:STANDARD
TZOFFSETFROM:-0500
TZOFFSETTO:-0600
TZNAME:CST
DTSTART:20291104T070000
END:STANDARD
BEGIN:DAYLIGHT
TZOFFSETFROM:-0600
TZOFFSETTO:-0500
TZNAME:CDT
DTSTART:20300310T080000
END:DAYLIGHT
BEGIN:STANDARD
TZOFFSETFROM:-0500
TZOFFSETTO:-0600
TZNAME:CST
DTSTART:20301103T070000
END:STANDARD
BEGIN:DAYLIGHT
TZOFFSETFROM:-0600
TZOFFSETTO:-0500
TZNAME:CDT
DTSTART:20310309T080000
END:DAYLIGHT
BEGIN:STANDARD
TZOFFSETFROM:-0500
TZOFFSETTO:-0600
TZNAME:CST
DTSTART:20311102T070000
END:STANDARD
END:VTIMEZONE
BEGIN:VEVENT
DTSTART;TZID=America/Chicago:20301105T190000
DTEND;TZID=America/Chicago:20301105T203000
DTSTAMP:20260421T173830
CREATED:20251226T130948Z
LAST-MODIFIED:20251231T190602Z
UID:10000358-1920135600-1920141000@beonetoday.com
SUMMARY:Real Time Torah
DESCRIPTION:Are you interested in a deeper understanding of Biblical truth? Do you want to be able to see the Bible through Kingdom eyes? Do you desire to take the lessons given to Israel through Moses and apply them to your life in Messiah today? \nIf yes then this Bible study is for you. We invite you to come and experience the Hebraic foundations of your faith so that you can take your place on the wall of building the kingdom. \nDinner: 5:45pm – 6:45pm (Registration Required)\nService: 7pm – 8:30pm \n 
URL:https://beonetoday.com/event/real-time-torah-2/2030-11-05/
LOCATION:Crossbridge Church\, 3039 Brook Highland Pkwy\, Birmingham\, AL\, 35242\, United States
ATTACH;FMTTYPE=image/jpeg:https://beonetoday.com/wp-content/uploads/2025/12/RTT_Feature_Image.jpg
END:VEVENT
BEGIN:VEVENT
DTSTART;TZID=America/Chicago:20301112T190000
DTEND;TZID=America/Chicago:20301112T203000
DTSTAMP:20260421T173830
CREATED:20251226T130948Z
LAST-MODIFIED:20251231T190602Z
UID:10000359-1920740400-1920745800@beonetoday.com
SUMMARY:Real Time Torah
DESCRIPTION:Are you interested in a deeper understanding of Biblical truth? Do you want to be able to see the Bible through Kingdom eyes? Do you desire to take the lessons given to Israel through Moses and apply them to your life in Messiah today? \nIf yes then this Bible study is for you. We invite you to come and experience the Hebraic foundations of your faith so that you can take your place on the wall of building the kingdom. \nDinner: 5:45pm – 6:45pm (Registration Required)\nService: 7pm – 8:30pm \n 
URL:https://beonetoday.com/event/real-time-torah-2/2030-11-12/
LOCATION:Crossbridge Church\, 3039 Brook Highland Pkwy\, Birmingham\, AL\, 35242\, United States
ATTACH;FMTTYPE=image/jpeg:https://beonetoday.com/wp-content/uploads/2025/12/RTT_Feature_Image.jpg
END:VEVENT
BEGIN:VEVENT
DTSTART;TZID=America/Chicago:20301119T190000
DTEND;TZID=America/Chicago:20301119T203000
DTSTAMP:20260421T173830
CREATED:20251226T130948Z
LAST-MODIFIED:20251231T190602Z
UID:10000360-1921345200-1921350600@beonetoday.com
SUMMARY:Real Time Torah
DESCRIPTION:Are you interested in a deeper understanding of Biblical truth? Do you want to be able to see the Bible through Kingdom eyes? Do you desire to take the lessons given to Israel through Moses and apply them to your life in Messiah today? \nIf yes then this Bible study is for you. We invite you to come and experience the Hebraic foundations of your faith so that you can take your place on the wall of building the kingdom. \nDinner: 5:45pm – 6:45pm (Registration Required)\nService: 7pm – 8:30pm \n 
URL:https://beonetoday.com/event/real-time-torah-2/2030-11-19/
LOCATION:Crossbridge Church\, 3039 Brook Highland Pkwy\, Birmingham\, AL\, 35242\, United States
ATTACH;FMTTYPE=image/jpeg:https://beonetoday.com/wp-content/uploads/2025/12/RTT_Feature_Image.jpg
END:VEVENT
BEGIN:VEVENT
DTSTART;TZID=America/Chicago:20301126T190000
DTEND;TZID=America/Chicago:20301126T203000
DTSTAMP:20260421T173830
CREATED:20251226T130948Z
LAST-MODIFIED:20251231T190602Z
UID:10000361-1921950000-1921955400@beonetoday.com
SUMMARY:Real Time Torah
DESCRIPTION:Are you interested in a deeper understanding of Biblical truth? Do you want to be able to see the Bible through Kingdom eyes? Do you desire to take the lessons given to Israel through Moses and apply them to your life in Messiah today? \nIf yes then this Bible study is for you. We invite you to come and experience the Hebraic foundations of your faith so that you can take your place on the wall of building the kingdom. \nDinner: 5:45pm – 6:45pm (Registration Required)\nService: 7pm – 8:30pm \n 
URL:https://beonetoday.com/event/real-time-torah-2/2030-11-26/
LOCATION:Crossbridge Church\, 3039 Brook Highland Pkwy\, Birmingham\, AL\, 35242\, United States
ATTACH;FMTTYPE=image/jpeg:https://beonetoday.com/wp-content/uploads/2025/12/RTT_Feature_Image.jpg
END:VEVENT
BEGIN:VEVENT
DTSTART;TZID=America/Chicago:20301203T190000
DTEND;TZID=America/Chicago:20301203T203000
DTSTAMP:20260421T173830
CREATED:20251226T130948Z
LAST-MODIFIED:20251231T190602Z
UID:10000362-1922554800-1922560200@beonetoday.com
SUMMARY:Real Time Torah
DESCRIPTION:Are you interested in a deeper understanding of Biblical truth? Do you want to be able to see the Bible through Kingdom eyes? Do you desire to take the lessons given to Israel through Moses and apply them to your life in Messiah today? \nIf yes then this Bible study is for you. We invite you to come and experience the Hebraic foundations of your faith so that you can take your place on the wall of building the kingdom. \nDinner: 5:45pm – 6:45pm (Registration Required)\nService: 7pm – 8:30pm \n 
URL:https://beonetoday.com/event/real-time-torah-2/2030-12-03/
LOCATION:Crossbridge Church\, 3039 Brook Highland Pkwy\, Birmingham\, AL\, 35242\, United States
ATTACH;FMTTYPE=image/jpeg:https://beonetoday.com/wp-content/uploads/2025/12/RTT_Feature_Image.jpg
END:VEVENT
BEGIN:VEVENT
DTSTART;TZID=America/Chicago:20301210T190000
DTEND;TZID=America/Chicago:20301210T203000
DTSTAMP:20260421T173830
CREATED:20251226T130948Z
LAST-MODIFIED:20251231T190602Z
UID:10000363-1923159600-1923165000@beonetoday.com
SUMMARY:Real Time Torah
DESCRIPTION:Are you interested in a deeper understanding of Biblical truth? Do you want to be able to see the Bible through Kingdom eyes? Do you desire to take the lessons given to Israel through Moses and apply them to your life in Messiah today? \nIf yes then this Bible study is for you. We invite you to come and experience the Hebraic foundations of your faith so that you can take your place on the wall of building the kingdom. \nDinner: 5:45pm – 6:45pm (Registration Required)\nService: 7pm – 8:30pm \n 
URL:https://beonetoday.com/event/real-time-torah-2/2030-12-10/
LOCATION:Crossbridge Church\, 3039 Brook Highland Pkwy\, Birmingham\, AL\, 35242\, United States
ATTACH;FMTTYPE=image/jpeg:https://beonetoday.com/wp-content/uploads/2025/12/RTT_Feature_Image.jpg
END:VEVENT
BEGIN:VEVENT
DTSTART;TZID=America/Chicago:20301217T190000
DTEND;TZID=America/Chicago:20301217T203000
DTSTAMP:20260421T173830
CREATED:20251226T130948Z
LAST-MODIFIED:20251231T190602Z
UID:10000364-1923764400-1923769800@beonetoday.com
SUMMARY:Real Time Torah
DESCRIPTION:Are you interested in a deeper understanding of Biblical truth? Do you want to be able to see the Bible through Kingdom eyes? Do you desire to take the lessons given to Israel through Moses and apply them to your life in Messiah today? \nIf yes then this Bible study is for you. We invite you to come and experience the Hebraic foundations of your faith so that you can take your place on the wall of building the kingdom. \nDinner: 5:45pm – 6:45pm (Registration Required)\nService: 7pm – 8:30pm \n 
URL:https://beonetoday.com/event/real-time-torah-2/2030-12-17/
LOCATION:Crossbridge Church\, 3039 Brook Highland Pkwy\, Birmingham\, AL\, 35242\, United States
ATTACH;FMTTYPE=image/jpeg:https://beonetoday.com/wp-content/uploads/2025/12/RTT_Feature_Image.jpg
END:VEVENT
BEGIN:VEVENT
DTSTART;TZID=America/Chicago:20301224T190000
DTEND;TZID=America/Chicago:20301224T203000
DTSTAMP:20260421T173830
CREATED:20251226T130948Z
LAST-MODIFIED:20251231T190602Z
UID:10000365-1924369200-1924374600@beonetoday.com
SUMMARY:Real Time Torah
DESCRIPTION:Are you interested in a deeper understanding of Biblical truth? Do you want to be able to see the Bible through Kingdom eyes? Do you desire to take the lessons given to Israel through Moses and apply them to your life in Messiah today? \nIf yes then this Bible study is for you. We invite you to come and experience the Hebraic foundations of your faith so that you can take your place on the wall of building the kingdom. \nDinner: 5:45pm – 6:45pm (Registration Required)\nService: 7pm – 8:30pm \n 
URL:https://beonetoday.com/event/real-time-torah-2/2030-12-24/
LOCATION:Crossbridge Church\, 3039 Brook Highland Pkwy\, Birmingham\, AL\, 35242\, United States
ATTACH;FMTTYPE=image/jpeg:https://beonetoday.com/wp-content/uploads/2025/12/RTT_Feature_Image.jpg
END:VEVENT
BEGIN:VEVENT
DTSTART;TZID=America/Chicago:20301231T190000
DTEND;TZID=America/Chicago:20301231T203000
DTSTAMP:20260421T173830
CREATED:20251226T130948Z
LAST-MODIFIED:20251231T190602Z
UID:10000366-1924974000-1924979400@beonetoday.com
SUMMARY:Real Time Torah
DESCRIPTION:Are you interested in a deeper understanding of Biblical truth? Do you want to be able to see the Bible through Kingdom eyes? Do you desire to take the lessons given to Israel through Moses and apply them to your life in Messiah today? \nIf yes then this Bible study is for you. We invite you to come and experience the Hebraic foundations of your faith so that you can take your place on the wall of building the kingdom. \nDinner: 5:45pm – 6:45pm (Registration Required)\nService: 7pm – 8:30pm \n 
URL:https://beonetoday.com/event/real-time-torah-2/2030-12-31/
LOCATION:Crossbridge Church\, 3039 Brook Highland Pkwy\, Birmingham\, AL\, 35242\, United States
ATTACH;FMTTYPE=image/jpeg:https://beonetoday.com/wp-content/uploads/2025/12/RTT_Feature_Image.jpg
END:VEVENT
END:VCALENDAR