BEGIN:VCALENDAR
VERSION:2.0
PRODID:-//Be One Ministries - ECPv6.15.20//NONSGML v1.0//EN
CALSCALE:GREGORIAN
METHOD:PUBLISH
X-ORIGINAL-URL:https://beonetoday.com
X-WR-CALDESC:Events for Be One Ministries
REFRESH-INTERVAL;VALUE=DURATION:PT1H
X-Robots-Tag:noindex
X-PUBLISHED-TTL:PT1H
BEGIN:VTIMEZONE
TZID:America/Chicago
BEGIN:DAYLIGHT
TZOFFSETFROM:-0600
TZOFFSETTO:-0500
TZNAME:CDT
DTSTART:20250309T080000
END:DAYLIGHT
BEGIN:STANDARD
TZOFFSETFROM:-0500
TZOFFSETTO:-0600
TZNAME:CST
DTSTART:20251102T070000
END:STANDARD
BEGIN:DAYLIGHT
TZOFFSETFROM:-0600
TZOFFSETTO:-0500
TZNAME:CDT
DTSTART:20260308T080000
END:DAYLIGHT
BEGIN:STANDARD
TZOFFSETFROM:-0500
TZOFFSETTO:-0600
TZNAME:CST
DTSTART:20261101T070000
END:STANDARD
BEGIN:DAYLIGHT
TZOFFSETFROM:-0600
TZOFFSETTO:-0500
TZNAME:CDT
DTSTART:20270314T080000
END:DAYLIGHT
BEGIN:STANDARD
TZOFFSETFROM:-0500
TZOFFSETTO:-0600
TZNAME:CST
DTSTART:20271107T070000
END:STANDARD
END:VTIMEZONE
BEGIN:VEVENT
DTSTART;TZID=America/Chicago:20260203T174500
DTEND;TZID=America/Chicago:20260203T184500
DTSTAMP:20260420T120258
CREATED:20260127T225756Z
LAST-MODIFIED:20260127T233021Z
UID:10000387-1770140700-1770144300@beonetoday.com
SUMMARY:Real Time Torah Dinner
DESCRIPTION:Good things happen around the table! \nRegister for dinner prior to Real Time Torah and enjoy great food and fellowship. \nDinner: 5:45pm – 6:45pm \nMenu: Tacos\, tea\, cake
URL:https://beonetoday.com/event/real-time-torah-dinner-3/
LOCATION:Crossbridge Church\, 3039 Brook Highland Pkwy\, Birmingham\, AL\, 35242\, United States
ATTACH;FMTTYPE=image/jpeg:https://beonetoday.com/wp-content/uploads/2025/12/RTT_Feature_Image.jpg
END:VEVENT
BEGIN:VEVENT
DTSTART;TZID=America/Chicago:20260203T190000
DTEND;TZID=America/Chicago:20260203T203000
DTSTAMP:20260420T120258
CREATED:20251226T130948Z
LAST-MODIFIED:20251231T190602Z
UID:10000110-1770145200-1770150600@beonetoday.com
SUMMARY:Real Time Torah
DESCRIPTION:Are you interested in a deeper understanding of Biblical truth? Do you want to be able to see the Bible through Kingdom eyes? Do you desire to take the lessons given to Israel through Moses and apply them to your life in Messiah today? \nIf yes then this Bible study is for you. We invite you to come and experience the Hebraic foundations of your faith so that you can take your place on the wall of building the kingdom. \nDinner: 5:45pm – 6:45pm (Registration Required)\nService: 7pm – 8:30pm \n 
URL:https://beonetoday.com/event/real-time-torah-2/2026-02-03/
LOCATION:Crossbridge Church\, 3039 Brook Highland Pkwy\, Birmingham\, AL\, 35242\, United States
ATTACH;FMTTYPE=image/jpeg:https://beonetoday.com/wp-content/uploads/2025/12/RTT_Feature_Image.jpg
END:VEVENT
BEGIN:VEVENT
DTSTART;TZID=America/Chicago:20260210T174500
DTEND;TZID=America/Chicago:20260210T184500
DTSTAMP:20260420T120258
CREATED:20260127T231026Z
LAST-MODIFIED:20260127T233116Z
UID:10000390-1770745500-1770749100@beonetoday.com
SUMMARY:Real Time Torah Dinner
DESCRIPTION:Good things happen around the table! \nRegister for dinner prior to Real Time Torah and enjoy great food and fellowship. \nDinner: 5:45pm – 6:45pm \nMenu: Chicken wings\, popcorn chicken\, salad\, potato wedges\, vegetable tray\,  tea\, fruit tarts
URL:https://beonetoday.com/event/real-time-torah-dinner-6/
LOCATION:Crossbridge Church\, 3039 Brook Highland Pkwy\, Birmingham\, AL\, 35242\, United States
ATTACH;FMTTYPE=image/jpeg:https://beonetoday.com/wp-content/uploads/2025/12/RTT_Feature_Image.jpg
END:VEVENT
BEGIN:VEVENT
DTSTART;TZID=America/Chicago:20260210T190000
DTEND;TZID=America/Chicago:20260210T203000
DTSTAMP:20260420T120258
CREATED:20251226T130948Z
LAST-MODIFIED:20251231T190602Z
UID:10000111-1770750000-1770755400@beonetoday.com
SUMMARY:Real Time Torah
DESCRIPTION:Are you interested in a deeper understanding of Biblical truth? Do you want to be able to see the Bible through Kingdom eyes? Do you desire to take the lessons given to Israel through Moses and apply them to your life in Messiah today? \nIf yes then this Bible study is for you. We invite you to come and experience the Hebraic foundations of your faith so that you can take your place on the wall of building the kingdom. \nDinner: 5:45pm – 6:45pm (Registration Required)\nService: 7pm – 8:30pm \n 
URL:https://beonetoday.com/event/real-time-torah-2/2026-02-10/
LOCATION:Crossbridge Church\, 3039 Brook Highland Pkwy\, Birmingham\, AL\, 35242\, United States
ATTACH;FMTTYPE=image/jpeg:https://beonetoday.com/wp-content/uploads/2025/12/RTT_Feature_Image.jpg
END:VEVENT
BEGIN:VEVENT
DTSTART;TZID=America/Chicago:20260217T174500
DTEND;TZID=America/Chicago:20260217T184500
DTSTAMP:20260420T120258
CREATED:20260127T230110Z
LAST-MODIFIED:20260127T233219Z
UID:10000388-1771350300-1771353900@beonetoday.com
SUMMARY:Real Time Torah Dinner
DESCRIPTION:Good things happen around the table! \nRegister for dinner prior to Real Time Torah and enjoy great food and fellowship. \nDinner: 5:45pm – 6:45pm \nMenu: Pizza\, salad\, tea\, cookies
URL:https://beonetoday.com/event/real-time-torah-dinner-4/
LOCATION:Crossbridge Church\, 3039 Brook Highland Pkwy\, Birmingham\, AL\, 35242\, United States
ATTACH;FMTTYPE=image/jpeg:https://beonetoday.com/wp-content/uploads/2025/12/RTT_Feature_Image.jpg
END:VEVENT
BEGIN:VEVENT
DTSTART;TZID=America/Chicago:20260217T190000
DTEND;TZID=America/Chicago:20260217T203000
DTSTAMP:20260420T120258
CREATED:20251226T130948Z
LAST-MODIFIED:20251231T190602Z
UID:10000112-1771354800-1771360200@beonetoday.com
SUMMARY:Real Time Torah
DESCRIPTION:Are you interested in a deeper understanding of Biblical truth? Do you want to be able to see the Bible through Kingdom eyes? Do you desire to take the lessons given to Israel through Moses and apply them to your life in Messiah today? \nIf yes then this Bible study is for you. We invite you to come and experience the Hebraic foundations of your faith so that you can take your place on the wall of building the kingdom. \nDinner: 5:45pm – 6:45pm (Registration Required)\nService: 7pm – 8:30pm \n 
URL:https://beonetoday.com/event/real-time-torah-2/2026-02-17/
LOCATION:Crossbridge Church\, 3039 Brook Highland Pkwy\, Birmingham\, AL\, 35242\, United States
ATTACH;FMTTYPE=image/jpeg:https://beonetoday.com/wp-content/uploads/2025/12/RTT_Feature_Image.jpg
END:VEVENT
BEGIN:VEVENT
DTSTART;TZID=America/Chicago:20260220T174500
DTEND;TZID=America/Chicago:20260220T184500
DTSTAMP:20260420T120258
CREATED:20251231T184501Z
LAST-MODIFIED:20260127T232526Z
UID:10000376-1771609500-1771613100@beonetoday.com
SUMMARY:February Community Shabbat Dinner
DESCRIPTION:Join us for food and fellowship before our monthly Community Shabbat. All are welcome! \nDinner: 5:45pm – 6:45pm
URL:https://beonetoday.com/event/february-community-shabbat/
LOCATION:AL
ATTACH;FMTTYPE=image/png:https://beonetoday.com/wp-content/uploads/2025/12/Shabbat_web_600.png
END:VEVENT
BEGIN:VEVENT
DTSTART;TZID=America/Chicago:20260220T190000
DTEND;TZID=America/Chicago:20260220T203000
DTSTAMP:20260420T120258
CREATED:20260218T031313Z
LAST-MODIFIED:20260218T031313Z
UID:10000391-1771614000-1771619400@beonetoday.com
SUMMARY:February Community Shabbat
DESCRIPTION:Once a month we gather together as a community without walls and celebrate corporately. Before the service we enjoy food and fellowship then worship G-d through music\, dance\, prayer\, liturgy. We also enjoy hearing testimonies and different speakers on Biblical passages. Childcare is provided for 12 and under.   All are invited! \nDinner: 5:45pm – 6:45pm\nService: 7pm – 8:30pm
URL:https://beonetoday.com/event/february-community-shabbat-2/
LOCATION:AL
ATTACH;FMTTYPE=image/png:https://beonetoday.com/wp-content/uploads/2025/12/Shabbat_web_600.png
END:VEVENT
BEGIN:VEVENT
DTSTART;TZID=America/Chicago:20260224T174500
DTEND;TZID=America/Chicago:20260224T184500
DTSTAMP:20260420T120258
CREATED:20260127T230530Z
LAST-MODIFIED:20260127T233318Z
UID:10000389-1771955100-1771958700@beonetoday.com
SUMMARY:Real Time Torah Dinner
DESCRIPTION:Good things happen around the table! \nRegister for dinner prior to Real Time Torah and enjoy great food and fellowship. \nDinner: 5:45pm – 6:45pm \nMenu: Turkey\, beef\, and veggie wraps\, salad\, Caesar pasta salad\, tea\, banana pudding
URL:https://beonetoday.com/event/real-time-torah-dinner-5/
LOCATION:Crossbridge Church\, 3039 Brook Highland Pkwy\, Birmingham\, AL\, 35242\, United States
ATTACH;FMTTYPE=image/jpeg:https://beonetoday.com/wp-content/uploads/2025/12/RTT_Feature_Image.jpg
END:VEVENT
BEGIN:VEVENT
DTSTART;TZID=America/Chicago:20260224T190000
DTEND;TZID=America/Chicago:20260224T203000
DTSTAMP:20260420T120258
CREATED:20251226T130948Z
LAST-MODIFIED:20251231T190602Z
UID:10000113-1771959600-1771965000@beonetoday.com
SUMMARY:Real Time Torah
DESCRIPTION:Are you interested in a deeper understanding of Biblical truth? Do you want to be able to see the Bible through Kingdom eyes? Do you desire to take the lessons given to Israel through Moses and apply them to your life in Messiah today? \nIf yes then this Bible study is for you. We invite you to come and experience the Hebraic foundations of your faith so that you can take your place on the wall of building the kingdom. \nDinner: 5:45pm – 6:45pm (Registration Required)\nService: 7pm – 8:30pm \n 
URL:https://beonetoday.com/event/real-time-torah-2/2026-02-24/
LOCATION:Crossbridge Church\, 3039 Brook Highland Pkwy\, Birmingham\, AL\, 35242\, United States
ATTACH;FMTTYPE=image/jpeg:https://beonetoday.com/wp-content/uploads/2025/12/RTT_Feature_Image.jpg
END:VEVENT
END:VCALENDAR