BEGIN:VCALENDAR
VERSION:2.0
PRODID:-//Be One Ministries - ECPv6.15.20//NONSGML v1.0//EN
CALSCALE:GREGORIAN
METHOD:PUBLISH
X-WR-CALNAME:Be One Ministries
X-ORIGINAL-URL:https://beonetoday.com
X-WR-CALDESC:Events for Be One Ministries
REFRESH-INTERVAL;VALUE=DURATION:PT1H
X-Robots-Tag:noindex
X-PUBLISHED-TTL:PT1H
BEGIN:VTIMEZONE
TZID:America/Chicago
BEGIN:DAYLIGHT
TZOFFSETFROM:-0600
TZOFFSETTO:-0500
TZNAME:CDT
DTSTART:20250309T080000
END:DAYLIGHT
BEGIN:STANDARD
TZOFFSETFROM:-0500
TZOFFSETTO:-0600
TZNAME:CST
DTSTART:20251102T070000
END:STANDARD
BEGIN:DAYLIGHT
TZOFFSETFROM:-0600
TZOFFSETTO:-0500
TZNAME:CDT
DTSTART:20260308T080000
END:DAYLIGHT
BEGIN:STANDARD
TZOFFSETFROM:-0500
TZOFFSETTO:-0600
TZNAME:CST
DTSTART:20261101T070000
END:STANDARD
BEGIN:DAYLIGHT
TZOFFSETFROM:-0600
TZOFFSETTO:-0500
TZNAME:CDT
DTSTART:20270314T080000
END:DAYLIGHT
BEGIN:STANDARD
TZOFFSETFROM:-0500
TZOFFSETTO:-0600
TZNAME:CST
DTSTART:20271107T070000
END:STANDARD
END:VTIMEZONE
BEGIN:VEVENT
DTSTART;TZID=America/Chicago:20260303T174500
DTEND;TZID=America/Chicago:20260303T184500
DTSTAMP:20260420T102106
CREATED:20251231T181155Z
LAST-MODIFIED:20260209T131907Z
UID:10000368-1772559900-1772563500@beonetoday.com
SUMMARY:Purim Dinner - Registration Required
DESCRIPTION:Purim is coming.\nAnd this year\, it will be unforgettable. \nJoin us for a special dinner before the Purim service by purchasing a ticket below. \nDinner: 5:45pm – 6:45pm (Purchase Dinner Tickets Below)\nService: 7pm – 8:30pm (Free for All – Service Registration Required)
URL:https://beonetoday.com/event/purim/
LOCATION:Crossbridge Church\, 3039 Brook Highland Pkwy\, Birmingham\, AL\, 35242\, United States
ATTACH;FMTTYPE=image/jpeg:https://beonetoday.com/wp-content/uploads/2026/02/Purim2026.jpeg
END:VEVENT
BEGIN:VEVENT
DTSTART;TZID=America/Chicago:20260303T190000
DTEND;TZID=America/Chicago:20260303T203000
DTSTAMP:20260420T102106
CREATED:20260208T195626Z
LAST-MODIFIED:20260209T132032Z
UID:10000393-1772564400-1772569800@beonetoday.com
SUMMARY:Purim Service - Registration Required
DESCRIPTION:Some stories are so powerful they refuse to stay in the past. \nThey echo through generations.\nThey remind us that darkness does not win.\nThey quietly teach us that courage\, faith\, and obedience still matter. \nPurim is one of those stories. \nIt is the story of a moment when sorrow turned into joy\, fear was overturned\, and God proved—once again—that He is never absent\, even when unseen. \nAs we move toward Purim\, we invite you to prepare your heart for a celebration rooted in hope\, courage\, and joy. This is not just a date on the calendar—it is a story worth remembering and entering into together. \nPurim is coming.\nAnd this year\, it will be unforgettable. \nPlease register for the Purim service by using the ticket(s) below. There is no cost for the service. \nDinner: 5:45pm – 6:45pm (Purchase Dinner Tickets)\nService: 7pm – 8:30pm (Free for All – Register Below)
URL:https://beonetoday.com/event/purim-service/
LOCATION:Crossbridge Church\, 3039 Brook Highland Pkwy\, Birmingham\, AL\, 35242\, United States
ATTACH;FMTTYPE=image/jpeg:https://beonetoday.com/wp-content/uploads/2026/02/Purim2026.jpeg
END:VEVENT
BEGIN:VEVENT
DTSTART;TZID=America/Chicago:20260310T174500
DTEND;TZID=America/Chicago:20260310T184500
DTSTAMP:20260420T102107
CREATED:20260217T143603Z
LAST-MODIFIED:20260217T143603Z
UID:10000394-1773164700-1773168300@beonetoday.com
SUMMARY:Real Time Torah Dinner
DESCRIPTION:Good things happen around the table! \nRegister for dinner prior to Real Time Torah and enjoy great food and fellowship. \nDinner: 5:45pm – 6:45pm \nMenu: Tacos\, Cake\, & Tea
URL:https://beonetoday.com/event/real-time-torah-dinner-7/
LOCATION:Crossbridge Church\, 3039 Brook Highland Pkwy\, Birmingham\, AL\, 35242\, United States
ATTACH;FMTTYPE=image/jpeg:https://beonetoday.com/wp-content/uploads/2025/12/RTT_Feature_Image.jpg
END:VEVENT
BEGIN:VEVENT
DTSTART;TZID=America/Chicago:20260310T190000
DTEND;TZID=America/Chicago:20260310T203000
DTSTAMP:20260420T102107
CREATED:20251226T130948Z
LAST-MODIFIED:20251231T190602Z
UID:10000115-1773169200-1773174600@beonetoday.com
SUMMARY:Real Time Torah
DESCRIPTION:Are you interested in a deeper understanding of Biblical truth? Do you want to be able to see the Bible through Kingdom eyes? Do you desire to take the lessons given to Israel through Moses and apply them to your life in Messiah today? \nIf yes then this Bible study is for you. We invite you to come and experience the Hebraic foundations of your faith so that you can take your place on the wall of building the kingdom. \nDinner: 5:45pm – 6:45pm (Registration Required)\nService: 7pm – 8:30pm \n 
URL:https://beonetoday.com/event/real-time-torah-2/2026-03-10/
LOCATION:Crossbridge Church\, 3039 Brook Highland Pkwy\, Birmingham\, AL\, 35242\, United States
ATTACH;FMTTYPE=image/jpeg:https://beonetoday.com/wp-content/uploads/2025/12/RTT_Feature_Image.jpg
END:VEVENT
BEGIN:VEVENT
DTSTART;TZID=America/Chicago:20260317T174500
DTEND;TZID=America/Chicago:20260317T184500
DTSTAMP:20260420T102107
CREATED:20260217T143850Z
LAST-MODIFIED:20260217T143850Z
UID:10000395-1773769500-1773773100@beonetoday.com
SUMMARY:Real Time Torah Dinner
DESCRIPTION:Good things happen around the table! \nRegister for dinner prior to Real Time Torah and enjoy great food and fellowship. \nDinner: 5:45pm – 6:45pm \nMenu: Fried chicken\, gouda mac-n-cheese\, carrots\, corn\, tea\, mixed fruit
URL:https://beonetoday.com/event/real-time-torah-dinner-8/
LOCATION:Crossbridge Church\, 3039 Brook Highland Pkwy\, Birmingham\, AL\, 35242\, United States
ATTACH;FMTTYPE=image/jpeg:https://beonetoday.com/wp-content/uploads/2025/12/RTT_Feature_Image.jpg
END:VEVENT
BEGIN:VEVENT
DTSTART;TZID=America/Chicago:20260317T190000
DTEND;TZID=America/Chicago:20260317T203000
DTSTAMP:20260420T102107
CREATED:20251226T130948Z
LAST-MODIFIED:20251231T190602Z
UID:10000116-1773774000-1773779400@beonetoday.com
SUMMARY:Real Time Torah
DESCRIPTION:Are you interested in a deeper understanding of Biblical truth? Do you want to be able to see the Bible through Kingdom eyes? Do you desire to take the lessons given to Israel through Moses and apply them to your life in Messiah today? \nIf yes then this Bible study is for you. We invite you to come and experience the Hebraic foundations of your faith so that you can take your place on the wall of building the kingdom. \nDinner: 5:45pm – 6:45pm (Registration Required)\nService: 7pm – 8:30pm \n 
URL:https://beonetoday.com/event/real-time-torah-2/2026-03-17/
LOCATION:Crossbridge Church\, 3039 Brook Highland Pkwy\, Birmingham\, AL\, 35242\, United States
ATTACH;FMTTYPE=image/jpeg:https://beonetoday.com/wp-content/uploads/2025/12/RTT_Feature_Image.jpg
END:VEVENT
BEGIN:VEVENT
DTSTART;TZID=America/Chicago:20260324T174500
DTEND;TZID=America/Chicago:20260324T184500
DTSTAMP:20260420T102107
CREATED:20260217T144319Z
LAST-MODIFIED:20260217T144319Z
UID:10000396-1774374300-1774377900@beonetoday.com
SUMMARY:Real Time Torah Dinner
DESCRIPTION:Good things happen around the table! \nRegister for dinner prior to Real Time Torah and enjoy great food and fellowship. \nDinner: 5:45pm – 6:45pm \nMenu: Chicken Pot Pie\, Salad\, Desert\, Tea
URL:https://beonetoday.com/event/real-time-torah-dinner-9/
LOCATION:Crossbridge Church\, 3039 Brook Highland Pkwy\, Birmingham\, AL\, 35242\, United States
ATTACH;FMTTYPE=image/jpeg:https://beonetoday.com/wp-content/uploads/2025/12/RTT_Feature_Image.jpg
END:VEVENT
BEGIN:VEVENT
DTSTART;TZID=America/Chicago:20260324T190000
DTEND;TZID=America/Chicago:20260324T203000
DTSTAMP:20260420T102107
CREATED:20251226T130948Z
LAST-MODIFIED:20251231T190602Z
UID:10000117-1774378800-1774384200@beonetoday.com
SUMMARY:Real Time Torah
DESCRIPTION:Are you interested in a deeper understanding of Biblical truth? Do you want to be able to see the Bible through Kingdom eyes? Do you desire to take the lessons given to Israel through Moses and apply them to your life in Messiah today? \nIf yes then this Bible study is for you. We invite you to come and experience the Hebraic foundations of your faith so that you can take your place on the wall of building the kingdom. \nDinner: 5:45pm – 6:45pm (Registration Required)\nService: 7pm – 8:30pm \n 
URL:https://beonetoday.com/event/real-time-torah-2/2026-03-24/
LOCATION:Crossbridge Church\, 3039 Brook Highland Pkwy\, Birmingham\, AL\, 35242\, United States
ATTACH;FMTTYPE=image/jpeg:https://beonetoday.com/wp-content/uploads/2025/12/RTT_Feature_Image.jpg
END:VEVENT
BEGIN:VEVENT
DTSTART;TZID=America/Chicago:20260331T174500
DTEND;TZID=America/Chicago:20260331T184500
DTSTAMP:20260420T102107
CREATED:20260217T144529Z
LAST-MODIFIED:20260217T144917Z
UID:10000397-1774979100-1774982700@beonetoday.com
SUMMARY:Real Time Torah Dinner
DESCRIPTION:Good things happen around the table! \nRegister for dinner prior to Real Time Torah and enjoy great food and fellowship. \nDinner: 5:45pm – 6:45pm \nMenu: Soups\, Salad\, Deserts\, Tea
URL:https://beonetoday.com/event/real-time-torah-dinner-10/
LOCATION:Crossbridge Church\, 3039 Brook Highland Pkwy\, Birmingham\, AL\, 35242\, United States
ATTACH;FMTTYPE=image/jpeg:https://beonetoday.com/wp-content/uploads/2025/12/RTT_Feature_Image.jpg
END:VEVENT
BEGIN:VEVENT
DTSTART;TZID=America/Chicago:20260331T190000
DTEND;TZID=America/Chicago:20260331T203000
DTSTAMP:20260420T102107
CREATED:20251226T130948Z
LAST-MODIFIED:20251231T190602Z
UID:10000118-1774983600-1774989000@beonetoday.com
SUMMARY:Real Time Torah
DESCRIPTION:Are you interested in a deeper understanding of Biblical truth? Do you want to be able to see the Bible through Kingdom eyes? Do you desire to take the lessons given to Israel through Moses and apply them to your life in Messiah today? \nIf yes then this Bible study is for you. We invite you to come and experience the Hebraic foundations of your faith so that you can take your place on the wall of building the kingdom. \nDinner: 5:45pm – 6:45pm (Registration Required)\nService: 7pm – 8:30pm \n 
URL:https://beonetoday.com/event/real-time-torah-2/2026-03-31/
LOCATION:Crossbridge Church\, 3039 Brook Highland Pkwy\, Birmingham\, AL\, 35242\, United States
ATTACH;FMTTYPE=image/jpeg:https://beonetoday.com/wp-content/uploads/2025/12/RTT_Feature_Image.jpg
END:VEVENT
END:VCALENDAR