BEGIN:VCALENDAR
VERSION:2.0
PRODID:-//Be One Ministries - ECPv6.15.20//NONSGML v1.0//EN
CALSCALE:GREGORIAN
METHOD:PUBLISH
X-WR-CALNAME:Be One Ministries
X-ORIGINAL-URL:https://beonetoday.com
X-WR-CALDESC:Events for Be One Ministries
REFRESH-INTERVAL;VALUE=DURATION:PT1H
X-Robots-Tag:noindex
X-PUBLISHED-TTL:PT1H
BEGIN:VTIMEZONE
TZID:America/Chicago
BEGIN:DAYLIGHT
TZOFFSETFROM:-0600
TZOFFSETTO:-0500
TZNAME:CDT
DTSTART:20250309T080000
END:DAYLIGHT
BEGIN:STANDARD
TZOFFSETFROM:-0500
TZOFFSETTO:-0600
TZNAME:CST
DTSTART:20251102T070000
END:STANDARD
BEGIN:DAYLIGHT
TZOFFSETFROM:-0600
TZOFFSETTO:-0500
TZNAME:CDT
DTSTART:20260308T080000
END:DAYLIGHT
BEGIN:STANDARD
TZOFFSETFROM:-0500
TZOFFSETTO:-0600
TZNAME:CST
DTSTART:20261101T070000
END:STANDARD
BEGIN:DAYLIGHT
TZOFFSETFROM:-0600
TZOFFSETTO:-0500
TZNAME:CDT
DTSTART:20270314T080000
END:DAYLIGHT
BEGIN:STANDARD
TZOFFSETFROM:-0500
TZOFFSETTO:-0600
TZNAME:CST
DTSTART:20271107T070000
END:STANDARD
END:VTIMEZONE
BEGIN:VEVENT
DTSTART;VALUE=DATE:20260426
DTEND;VALUE=DATE:20260508
DTSTAMP:20260420T102025
CREATED:20260115T172939Z
LAST-MODIFIED:20260115T173657Z
UID:10000383-1777161600-1778198399@beonetoday.com
SUMMARY:Experience Israel Tour
DESCRIPTION:Register Now!\n			\n				\n				\n				\n				\n				Welcome to “Experience Israel” — A Journey of Faith and Discovery\nWe invite you to experience Israel with Be One Fellowship and Tevel Travel Group on a life-changing journey through the Land of the Bible. This tour is more than sightseeing — it’s a walk through Scripture\, where every stone and valley tells a story. From the shores of the Galilee to the walls of Jerusalem\, we’ll explore the living Word of G‑d together\, deepening our understanding of Yeshua and His people. May this journey awaken your spirit\, renew your faith\, and draw you closer to the heart of the Father. \nDay 1 – Sunday\, April 26\, 2026\n\n**Departure from Atlanta to Tel Aviv**\n\nDepart from Hartsfield-Jackson Atlanta International Airport. Prepare your heart in prayer for the journey ahead. \nDay 2 – Monday\, April 27\, 2026\n\n**Arrival in Tel Aviv / Jaffa**\n\nArrive at Ben Gurion Airport. Meet your guide and transfer to your hotel in Tel Aviv. Visit Ancient Jaffa Port — Dinner and overnight in Tel Aviv. \nDay 3 – Tuesday\, April 28\, 2026\n\n**Tel Aviv & Jaffa**\n\nExplore the House of Simon the Tanner\, where Peter saw a great vision (Acts 10)\, Carmel Market\, and the ANU Museum of the Jewish People—dinner and overnight in Tel Aviv. \nDay 4 – Wednesday\, April 29\, 2026\n\n**Mediterranean Coast / Travel North**\n\nVisit Caesarea Maritima\, Mount Carmel\, and Nazareth Village. Overnight at Magdala Hotel\, Sea of Galilee. \nDay 5 – Thursday\, April 30\, 2026\n\n**Sea of Galilee**\n\nBoat ride on the Sea of Galilee\, visit the Mount of Beatitudes\, Capernaum\, and Magdala—dinner and overnight in Galilee. \nDay 6 – Friday\, May 1\, 2026\n\n**Upper Galilee / Golan Heights**\n\nVisit Tel Dan\, Caesarea Philippi\, Banias\, the Golan Heights memorial\, and enjoy a Shabbat dinner. Overnight in Galilee. \nDay 7 – Saturday\, May 2\, 2026\n\n**Beit She’an / Jordan River / Dead Sea**\n\nTravel south to Beit She’an\, Qasr el-Yehud Baptism Site\, and Ein Gedi Float in the Dead Sea. Overnight at Isrotel Noga. \nDay 8 – Sunday\, May 3\, 2026\n\n**NOVA Memorials / Gaza Envelope**\n\nVisit the NOVA Festival Memorial and Sderot. Guest speaker: retired IDF colonel. Transfer to Jerusalem. Overnight at Dan Hotel\, Jerusalem. \nDay 9 – Monday\, May 4\, 2026\n\n**Jerusalem / Genesis Land**\n\nVisit the Israel Museum\, Genesis Land\, and Friends of Zion Museum. Dinner and overnight in Jerusalem. \nDay 10 – Tuesday\, May 5\, 2026\n\n**Temple Mount / Western Wall Tunnels**\n\nVisit  Temple Mount\, Western Wall Tunnel and enjoy a mission project in Jerusalem. Overnight at Dan Hotel. \nDay 11 – Wednesday\, May 6\, 2026\n\n**City of David / Yad Vashem**\n\nVisit City of David\, Hezekiah’s Tunnel\, Pool of Siloam\, the Southern Steps and Davidson Center\, and Yad Vashem. Overnight in Jerusalem. \nDay 12 – Thursday\, May 7\, 2026\n\n**Garden Tomb / Jaffa / Departure**\n\nCommunion at Garden Tomb\, farewell dinner in Jaffa\, and transfer to Ben Gurion Airport. Shalom and next year in Jerusalem \n			\n				Register Now!\n			\n				\n				\n				\n				\n				Tour Information and Next Steps\n✈️ Flight Information — Lufthansa Airlines\nDeparture (April 26\, 2026):– LH 0445 | 4:05 PM – Depart Atlanta (ATL) → Frankfurt (FRA); Arrive 7:00 AM (+1); Layover 3h15m– LH 0686 | 10:15 AM Frankfurt → Tel Aviv (TLV); Arrive April 27 at 3:25 PM \nReturn (May 7\, 2026):– LH 0691 | 4:45 AM Tel Aviv → Frankfurt; Arrive 8:20 AM; Layover 1h55m– LH 0444 | 10:15 AM Frankfurt → Atlanta; Arrive 2:20 PM same day \n💰 Rates & Inclusions\n\nDouble Occupancy: $3\,725 USD (includes breakfast & dinner daily)\nSingle Supplement: $1\,499 USD (extra cost for single room)\nAirfare (Lufthansa): $1\,697 USD round-trip\n\nTotal (Double + Airfare): approximately $5\,422 USD per person. \n🏨 Accommodations (All Half-Board: Breakfast & Dinner)\n\nDan Panorama or Tal Hotel – Tel Aviv (2 nights)\nMagdala Hotel – Sea of Galilee (3 nights)\nIsrotel Noga Hotel – Dead Sea (1 night)\nDan Hotel – Jerusalem (4 nights)Rooming lists will be finalized before departure.\n\n🧳 What’s Included\n\nLicensed Israel Tour Guide (English-speaking) & Tour Manager Richard Frieden\nHalf-board accommodations (breakfast & dinner)\nEntrance fees to all sites\n2 bottles of water per day\nLuxury bus with Wi-Fi\nSmile luggage handling (group arrival)\nSt. Peter’s Fish Lunch\, Genesis Land Lunch & Camels\, Farewell Dinner\nPorterage at all hotels\nTips for staff\n\n🎤 Special Guest Speakers\n\nCol. Miri Eisin (Ret.) – expert in geo-politics and military analysis (TBD)\nFormer ISA Helicopter Pilot / Mossad Officer (TBD)\n\n🚫 Not Included\n\nInternational airfare (if booked independently)\nTravel/Medical Insurance\nETA-IL Entry Permit – apply at https://israel-entry.piba.gov.il/eligibilitynational/\nMission Day costs (TBD)\n\n💵 Payment Options\n\nZELLE: info@teveltravelgroup.com\nWIRE: Chase Bank | Acct #969128930 | Routing #065400137\nSTRIPE (Credit Card): +3% fee ($111 extra) = $3\,836 totalPayment of at least $1750 must be made by January 8\, 2026\, to guarantee the airline rate.Final Payment Due: March 1\, 2026\n\nCancellations: \n• Until March 15 – 100% refundable• March 16–26 – 75% refund• Acts of God/flight cancellations – full refund \nPassport copy due: March 15\, 2026 \n🪜 Next Steps for Participants\n\nRegister online: https://teveltravelgroup.com/tevel-travel-group-love-in-the-land/\nScroll to the bottom of the page and enter your registration information.\nOnce you register\, you will be directed to the Payment site\, or you may click the “payments” button at the bottom of the page. Payment can be made in any amount.\nDeadline for Airfare Guarantee: January 8\, 2026\, ($1750)\, Deadline for final payment: March 1\, 2026\n\n			\n				Register Now!
URL:https://beonetoday.com/event/experience-israel-tour/
LOCATION:AL
ATTACH;FMTTYPE=image/jpeg:https://beonetoday.com/wp-content/uploads/2024/09/Be-One-Web-28.jpg
END:VEVENT
BEGIN:VEVENT
DTSTART;TZID=America/Chicago:20260505T174500
DTEND;TZID=America/Chicago:20260505T184500
DTSTAMP:20260420T102025
CREATED:20260405T153659Z
LAST-MODIFIED:20260415T003820Z
UID:10000402-1778003100-1778006700@beonetoday.com
SUMMARY:Real Time Torah - Bible Study & Dinner
DESCRIPTION:Are you interested in a deeper understanding of Biblical truth? Do you want to be able to see the Bible through Kingdom eyes? Do you desire to take the lessons given to Israel through Moses and apply them to your life in Messiah today? \nIf yes then this Bible study is for you. We invite you to come and experience the Hebraic foundations of your faith so that you can take your place on the wall of building the kingdom. \nGood things happen around the table! Register for dinner prior to Real Time Torah and enjoy great food and fellowship. \nDinner Link: Coming Soon \nDinner: 5:45pm – 6:45pm \nMenu: TBD
URL:https://beonetoday.com/event/real-time-torah-dinner-15/
LOCATION:Crossbridge Church\, 3039 Brook Highland Pkwy\, Birmingham\, AL\, 35242\, United States
ATTACH;FMTTYPE=image/png:https://beonetoday.com/wp-content/uploads/2026/03/RTT-1.png
END:VEVENT
BEGIN:VEVENT
DTSTART;TZID=America/Chicago:20260512T174500
DTEND;TZID=America/Chicago:20260512T184500
DTSTAMP:20260420T102025
CREATED:20260405T153743Z
LAST-MODIFIED:20260415T003856Z
UID:10000403-1778607900-1778611500@beonetoday.com
SUMMARY:Real Time Torah - Bible Study & Dinner
DESCRIPTION:Are you interested in a deeper understanding of Biblical truth? Do you want to be able to see the Bible through Kingdom eyes? Do you desire to take the lessons given to Israel through Moses and apply them to your life in Messiah today? \nIf yes then this Bible study is for you. We invite you to come and experience the Hebraic foundations of your faith so that you can take your place on the wall of building the kingdom. \nGood things happen around the table! Register for dinner prior to Real Time Torah and enjoy great food and fellowship. \nDinner Link: Coming Soon \nDinner: 5:45pm – 6:45pm \nMenu: TBD
URL:https://beonetoday.com/event/real-time-torah-dinner-16/
LOCATION:Crossbridge Church\, 3039 Brook Highland Pkwy\, Birmingham\, AL\, 35242\, United States
ATTACH;FMTTYPE=image/png:https://beonetoday.com/wp-content/uploads/2026/03/RTT-2.png
END:VEVENT
BEGIN:VEVENT
DTSTART;TZID=America/Chicago:20260521T190000
DTEND;TZID=America/Chicago:20260521T203000
DTSTAMP:20260420T102025
CREATED:20251231T182019Z
LAST-MODIFIED:20260415T004017Z
UID:10000370-1779390000-1779395400@beonetoday.com
SUMMARY:Shavuot Celebration & Dinner
DESCRIPTION:At Mount Sinai\, the voice of God thundered as He gave the Torah to His people. Centuries later\, in Jerusalem\, that same Spirit was poured out in power—writing His law not on tablets of stone\, but on hearts of flesh through Yeshua\, our Messiah. \nThis is Shavuot. \nNot just a remembrance… but a fulfillment.Not just a harvest… but a calling. \nJoin us at Be One Fellowship as we celebrate this powerful moed\, where Torah and Spirit meet\, where promise becomes reality\, and where we are made one in Messiah! \nCome expectant. Come hungry. Come ready to encounter the living God. \nBecause Shavuot didn’t end in Acts 2. \nClick Here to Register for Dinner \nDinner: 5:45pm – 6:45pm Service: 7pm – 8:30pm \nMenu: Makarios: Chicken and Beef Shawarma\, Mixed veggies\, Rice\, Pita & hummus\, and Salad – Cheesecake Variety – Tea\, Lemonade\, Coffee
URL:https://beonetoday.com/event/shavout/
LOCATION:AL
ATTACH;FMTTYPE=image/jpeg:https://beonetoday.com/wp-content/uploads/2025/12/Shavuot_web.jpg
END:VEVENT
BEGIN:VEVENT
DTSTART;TZID=America/Chicago:20260526T174500
DTEND;TZID=America/Chicago:20260526T184500
DTSTAMP:20260420T102025
CREATED:20260405T154406Z
LAST-MODIFIED:20260415T004111Z
UID:10000404-1779817500-1779821100@beonetoday.com
SUMMARY:Real Time Torah - Bible Study & Dinner
DESCRIPTION:Are you interested in a deeper understanding of Biblical truth? Do you want to be able to see the Bible through Kingdom eyes? Do you desire to take the lessons given to Israel through Moses and apply them to your life in Messiah today? \nIf yes then this Bible study is for you. We invite you to come and experience the Hebraic foundations of your faith so that you can take your place on the wall of building the kingdom. \nGood things happen around the table! Register for dinner prior to Real Time Torah and enjoy great food and fellowship. \nDinner Link: Coming Soon \nDinner: 5:45pm – 6:45pm \nMenu: TBD
URL:https://beonetoday.com/event/real-time-torah-dinner-17/
LOCATION:Crossbridge Church\, 3039 Brook Highland Pkwy\, Birmingham\, AL\, 35242\, United States
ATTACH;FMTTYPE=image/png:https://beonetoday.com/wp-content/uploads/2026/03/RTT-5.png
END:VEVENT
END:VCALENDAR