BEGIN:VCALENDAR
VERSION:2.0
PRODID:-//Be One Ministries - ECPv6.15.20//NONSGML v1.0//EN
CALSCALE:GREGORIAN
METHOD:PUBLISH
X-ORIGINAL-URL:https://beonetoday.com
X-WR-CALDESC:Events for Be One Ministries
REFRESH-INTERVAL;VALUE=DURATION:PT1H
X-Robots-Tag:noindex
X-PUBLISHED-TTL:PT1H
BEGIN:VTIMEZONE
TZID:America/Chicago
BEGIN:DAYLIGHT
TZOFFSETFROM:-0600
TZOFFSETTO:-0500
TZNAME:CDT
DTSTART:20250309T080000
END:DAYLIGHT
BEGIN:STANDARD
TZOFFSETFROM:-0500
TZOFFSETTO:-0600
TZNAME:CST
DTSTART:20251102T070000
END:STANDARD
BEGIN:DAYLIGHT
TZOFFSETFROM:-0600
TZOFFSETTO:-0500
TZNAME:CDT
DTSTART:20260308T080000
END:DAYLIGHT
BEGIN:STANDARD
TZOFFSETFROM:-0500
TZOFFSETTO:-0600
TZNAME:CST
DTSTART:20261101T070000
END:STANDARD
BEGIN:DAYLIGHT
TZOFFSETFROM:-0600
TZOFFSETTO:-0500
TZNAME:CDT
DTSTART:20270314T080000
END:DAYLIGHT
BEGIN:STANDARD
TZOFFSETFROM:-0500
TZOFFSETTO:-0600
TZNAME:CST
DTSTART:20271107T070000
END:STANDARD
END:VTIMEZONE
BEGIN:VEVENT
DTSTART;TZID=America/Chicago:20260901T174500
DTEND;TZID=America/Chicago:20260901T184500
DTSTAMP:20260420T174625
CREATED:20260405T155007Z
LAST-MODIFIED:20260405T155007Z
UID:10000417-1788284700-1788288300@beonetoday.com
SUMMARY:Real Time Torah Dinner
DESCRIPTION:Are you interested in a deeper understanding of Biblical truth? Do you want to be able to see the Bible through Kingdom eyes? Do you desire to take the lessons given to Israel through Moses and apply them to your life in Messiah today? \nIf yes then this Bible study is for you. We invite you to come and experience the Hebraic foundations of your faith so that you can take your place on the wall of building the kingdom. \nGood things happen around the table! Register for dinner prior to Real Time Torah and enjoy great food and fellowship. \nDinner Link: Coming Soon \nDinner: 5:45pm – 6:45pm \nMenu: TBD
URL:https://beonetoday.com/event/real-time-torah-dinner-30/
LOCATION:Crossbridge Church\, 3039 Brook Highland Pkwy\, Birmingham\, AL\, 35242\, United States
ATTACH;FMTTYPE=image/png:https://beonetoday.com/wp-content/uploads/2026/03/RTT-5.png
END:VEVENT
BEGIN:VEVENT
DTSTART;TZID=America/Chicago:20260908T174500
DTEND;TZID=America/Chicago:20260908T184500
DTSTAMP:20260420T174625
CREATED:20260405T155043Z
LAST-MODIFIED:20260405T155043Z
UID:10000418-1788889500-1788893100@beonetoday.com
SUMMARY:Real Time Torah Dinner
DESCRIPTION:Are you interested in a deeper understanding of Biblical truth? Do you want to be able to see the Bible through Kingdom eyes? Do you desire to take the lessons given to Israel through Moses and apply them to your life in Messiah today? \nIf yes then this Bible study is for you. We invite you to come and experience the Hebraic foundations of your faith so that you can take your place on the wall of building the kingdom. \nGood things happen around the table! Register for dinner prior to Real Time Torah and enjoy great food and fellowship. \nDinner Link: Coming Soon \nDinner: 5:45pm – 6:45pm \nMenu: TBD
URL:https://beonetoday.com/event/real-time-torah-dinner-31/
LOCATION:Crossbridge Church\, 3039 Brook Highland Pkwy\, Birmingham\, AL\, 35242\, United States
ATTACH;FMTTYPE=image/png:https://beonetoday.com/wp-content/uploads/2026/03/RTT-5.png
END:VEVENT
BEGIN:VEVENT
DTSTART;TZID=America/Chicago:20260911T190000
DTEND;TZID=America/Chicago:20260911T203000
DTSTAMP:20260420T174625
CREATED:20251231T182534Z
LAST-MODIFIED:20251231T182534Z
UID:10000371-1789153200-1789158600@beonetoday.com
SUMMARY:Yom Teruah (Feast of Trumphets)
DESCRIPTION:
URL:https://beonetoday.com/event/yom-teruah-feast-of-trumphets/
LOCATION:AL
ATTACH;FMTTYPE=image/jpeg:https://beonetoday.com/wp-content/uploads/2024/09/Be-One-Web-16.jpg
END:VEVENT
BEGIN:VEVENT
DTSTART;TZID=America/Chicago:20260915T174500
DTEND;TZID=America/Chicago:20260915T184500
DTSTAMP:20260420T174625
CREATED:20260405T155109Z
LAST-MODIFIED:20260405T155109Z
UID:10000419-1789494300-1789497900@beonetoday.com
SUMMARY:Real Time Torah Dinner
DESCRIPTION:Are you interested in a deeper understanding of Biblical truth? Do you want to be able to see the Bible through Kingdom eyes? Do you desire to take the lessons given to Israel through Moses and apply them to your life in Messiah today? \nIf yes then this Bible study is for you. We invite you to come and experience the Hebraic foundations of your faith so that you can take your place on the wall of building the kingdom. \nGood things happen around the table! Register for dinner prior to Real Time Torah and enjoy great food and fellowship. \nDinner Link: Coming Soon \nDinner: 5:45pm – 6:45pm \nMenu: TBD
URL:https://beonetoday.com/event/real-time-torah-dinner-32/
LOCATION:Crossbridge Church\, 3039 Brook Highland Pkwy\, Birmingham\, AL\, 35242\, United States
ATTACH;FMTTYPE=image/png:https://beonetoday.com/wp-content/uploads/2026/03/RTT-5.png
END:VEVENT
BEGIN:VEVENT
DTSTART;TZID=America/Chicago:20260920T190000
DTEND;TZID=America/Chicago:20260920T203000
DTSTAMP:20260420T174625
CREATED:20251231T183320Z
LAST-MODIFIED:20251231T183320Z
UID:10000373-1789930800-1789936200@beonetoday.com
SUMMARY:Yom Kippur (Day of Attonement)
DESCRIPTION:
URL:https://beonetoday.com/event/yom-kippur-day-of-attonement/
LOCATION:AL
ATTACH;FMTTYPE=image/jpeg:https://beonetoday.com/wp-content/uploads/2025/12/Yom_Kippur_web.jpg
END:VEVENT
BEGIN:VEVENT
DTSTART;TZID=America/Chicago:20260922T174500
DTEND;TZID=America/Chicago:20260922T184500
DTSTAMP:20260420T174625
CREATED:20260405T155135Z
LAST-MODIFIED:20260405T155135Z
UID:10000420-1790099100-1790102700@beonetoday.com
SUMMARY:Real Time Torah Dinner
DESCRIPTION:Are you interested in a deeper understanding of Biblical truth? Do you want to be able to see the Bible through Kingdom eyes? Do you desire to take the lessons given to Israel through Moses and apply them to your life in Messiah today? \nIf yes then this Bible study is for you. We invite you to come and experience the Hebraic foundations of your faith so that you can take your place on the wall of building the kingdom. \nGood things happen around the table! Register for dinner prior to Real Time Torah and enjoy great food and fellowship. \nDinner Link: Coming Soon \nDinner: 5:45pm – 6:45pm \nMenu: TBD
URL:https://beonetoday.com/event/real-time-torah-dinner-33/
LOCATION:Crossbridge Church\, 3039 Brook Highland Pkwy\, Birmingham\, AL\, 35242\, United States
ATTACH;FMTTYPE=image/png:https://beonetoday.com/wp-content/uploads/2026/03/RTT-5.png
END:VEVENT
BEGIN:VEVENT
DTSTART;TZID=America/Chicago:20260925T103000
DTEND;TZID=America/Chicago:20260930T170000
DTSTAMP:20260420T174625
CREATED:20251231T182741Z
LAST-MODIFIED:20251231T182741Z
UID:10000372-1790332200-1790787600@beonetoday.com
SUMMARY:Sukkot
DESCRIPTION:
URL:https://beonetoday.com/event/sukkot/
LOCATION:AL
ATTACH;FMTTYPE=image/jpeg:https://beonetoday.com/wp-content/uploads/2025/12/Sukkot_banner-web-scaled.jpg
END:VEVENT
END:VCALENDAR