BEGIN:VCALENDAR
VERSION:2.0
PRODID:-//Be One Ministries - ECPv6.15.20//NONSGML v1.0//EN
CALSCALE:GREGORIAN
METHOD:PUBLISH
X-WR-CALNAME:Be One Ministries
X-ORIGINAL-URL:https://beonetoday.com
X-WR-CALDESC:Events for Be One Ministries
REFRESH-INTERVAL;VALUE=DURATION:PT1H
X-Robots-Tag:noindex
X-PUBLISHED-TTL:PT1H
BEGIN:VTIMEZONE
TZID:America/Chicago
BEGIN:DAYLIGHT
TZOFFSETFROM:-0600
TZOFFSETTO:-0500
TZNAME:CDT
DTSTART:20250309T080000
END:DAYLIGHT
BEGIN:STANDARD
TZOFFSETFROM:-0500
TZOFFSETTO:-0600
TZNAME:CST
DTSTART:20251102T070000
END:STANDARD
BEGIN:DAYLIGHT
TZOFFSETFROM:-0600
TZOFFSETTO:-0500
TZNAME:CDT
DTSTART:20260308T080000
END:DAYLIGHT
BEGIN:STANDARD
TZOFFSETFROM:-0500
TZOFFSETTO:-0600
TZNAME:CST
DTSTART:20261101T070000
END:STANDARD
BEGIN:DAYLIGHT
TZOFFSETFROM:-0600
TZOFFSETTO:-0500
TZNAME:CDT
DTSTART:20270314T080000
END:DAYLIGHT
BEGIN:STANDARD
TZOFFSETFROM:-0500
TZOFFSETTO:-0600
TZNAME:CST
DTSTART:20271107T070000
END:STANDARD
END:VTIMEZONE
BEGIN:VEVENT
DTSTART;TZID=America/Chicago:20261006T174500
DTEND;TZID=America/Chicago:20261006T184500
DTSTAMP:20260420T193720
CREATED:20260405T155213Z
LAST-MODIFIED:20260405T155213Z
UID:10000421-1791308700-1791312300@beonetoday.com
SUMMARY:Real Time Torah Dinner
DESCRIPTION:Are you interested in a deeper understanding of Biblical truth? Do you want to be able to see the Bible through Kingdom eyes? Do you desire to take the lessons given to Israel through Moses and apply them to your life in Messiah today? \nIf yes then this Bible study is for you. We invite you to come and experience the Hebraic foundations of your faith so that you can take your place on the wall of building the kingdom. \nGood things happen around the table! Register for dinner prior to Real Time Torah and enjoy great food and fellowship. \nDinner Link: Coming Soon \nDinner: 5:45pm – 6:45pm \nMenu: TBD
URL:https://beonetoday.com/event/real-time-torah-dinner-34/
LOCATION:Crossbridge Church\, 3039 Brook Highland Pkwy\, Birmingham\, AL\, 35242\, United States
ATTACH;FMTTYPE=image/png:https://beonetoday.com/wp-content/uploads/2026/03/RTT-5.png
END:VEVENT
BEGIN:VEVENT
DTSTART;TZID=America/Chicago:20261013T174500
DTEND;TZID=America/Chicago:20261013T184500
DTSTAMP:20260420T193720
CREATED:20260405T155248Z
LAST-MODIFIED:20260405T155248Z
UID:10000422-1791913500-1791917100@beonetoday.com
SUMMARY:Real Time Torah Dinner
DESCRIPTION:Are you interested in a deeper understanding of Biblical truth? Do you want to be able to see the Bible through Kingdom eyes? Do you desire to take the lessons given to Israel through Moses and apply them to your life in Messiah today? \nIf yes then this Bible study is for you. We invite you to come and experience the Hebraic foundations of your faith so that you can take your place on the wall of building the kingdom. \nGood things happen around the table! Register for dinner prior to Real Time Torah and enjoy great food and fellowship. \nDinner Link: Coming Soon \nDinner: 5:45pm – 6:45pm \nMenu: TBD
URL:https://beonetoday.com/event/real-time-torah-dinner-35/
LOCATION:Crossbridge Church\, 3039 Brook Highland Pkwy\, Birmingham\, AL\, 35242\, United States
ATTACH;FMTTYPE=image/png:https://beonetoday.com/wp-content/uploads/2026/03/RTT-5.png
END:VEVENT
BEGIN:VEVENT
DTSTART;TZID=America/Chicago:20261027T174500
DTEND;TZID=America/Chicago:20261027T184500
DTSTAMP:20260420T193720
CREATED:20260405T155314Z
LAST-MODIFIED:20260405T155338Z
UID:10000423-1793123100-1793126700@beonetoday.com
SUMMARY:Real Time Torah Dinner
DESCRIPTION:Are you interested in a deeper understanding of Biblical truth? Do you want to be able to see the Bible through Kingdom eyes? Do you desire to take the lessons given to Israel through Moses and apply them to your life in Messiah today? \nIf yes then this Bible study is for you. We invite you to come and experience the Hebraic foundations of your faith so that you can take your place on the wall of building the kingdom. \nGood things happen around the table! Register for dinner prior to Real Time Torah and enjoy great food and fellowship. \nDinner Link: Coming Soon \nDinner: 5:45pm – 6:45pm \nMenu: TBD
URL:https://beonetoday.com/event/real-time-torah-dinner-36/
LOCATION:Crossbridge Church\, 3039 Brook Highland Pkwy\, Birmingham\, AL\, 35242\, United States
ATTACH;FMTTYPE=image/png:https://beonetoday.com/wp-content/uploads/2026/03/RTT-5.png
END:VEVENT
END:VCALENDAR