BEGIN:VCALENDAR
VERSION:2.0
PRODID:-//Be One Ministries - ECPv6.15.20//NONSGML v1.0//EN
CALSCALE:GREGORIAN
METHOD:PUBLISH
X-WR-CALNAME:Be One Ministries
X-ORIGINAL-URL:https://beonetoday.com
X-WR-CALDESC:Events for Be One Ministries
REFRESH-INTERVAL;VALUE=DURATION:PT1H
X-Robots-Tag:noindex
X-PUBLISHED-TTL:PT1H
BEGIN:VTIMEZONE
TZID:America/Chicago
BEGIN:DAYLIGHT
TZOFFSETFROM:-0600
TZOFFSETTO:-0500
TZNAME:CDT
DTSTART:20250309T080000
END:DAYLIGHT
BEGIN:STANDARD
TZOFFSETFROM:-0500
TZOFFSETTO:-0600
TZNAME:CST
DTSTART:20251102T070000
END:STANDARD
BEGIN:DAYLIGHT
TZOFFSETFROM:-0600
TZOFFSETTO:-0500
TZNAME:CDT
DTSTART:20260308T080000
END:DAYLIGHT
BEGIN:STANDARD
TZOFFSETFROM:-0500
TZOFFSETTO:-0600
TZNAME:CST
DTSTART:20261101T070000
END:STANDARD
BEGIN:DAYLIGHT
TZOFFSETFROM:-0600
TZOFFSETTO:-0500
TZNAME:CDT
DTSTART:20270314T080000
END:DAYLIGHT
BEGIN:STANDARD
TZOFFSETFROM:-0500
TZOFFSETTO:-0600
TZNAME:CST
DTSTART:20271107T070000
END:STANDARD
END:VTIMEZONE
BEGIN:VEVENT
DTSTART;TZID=America/Chicago:20260404T170000
DTEND;TZID=America/Chicago:20260404T200000
DTSTAMP:20260420T135653
CREATED:20251231T181818Z
LAST-MODIFIED:20260331T235118Z
UID:10000369-1775322000-1775332800@beonetoday.com
SUMMARY:Community Passover Seder
DESCRIPTION:Passover (Pesach) is the longest continuous running religious celebration in the world. For over 3500 years people have gathered annually to remember the Exodus of Israel from Egypt. This is a story that ebbs and flows. A beautiful mystery\, a love story\, and an action thriller all at the same time. The narrative continues throughout time as each year we gather to remember what G-d did and rehearse what G-d is preparing to do. \nOn Saturday\, April 4th at 5:00 P.M. come celebrate the Passover Seder with Be One Ministries. \n 
URL:https://beonetoday.com/event/community-passover-seder/
LOCATION:Embassy Suites – Hoover\, AL\, 2960 John Hawkins Pkwy\, Hoover\, AL\, 25244\, United States
ATTACH;FMTTYPE=image/png:https://beonetoday.com/wp-content/uploads/2025/12/image-2.png
END:VEVENT
END:VCALENDAR